BEGIN:VCALENDAR
VERSION:2.0
PRODID:-//IAL® - ECPv6.15.19//NONSGML v1.0//EN
CALSCALE:GREGORIAN
METHOD:PUBLISH
X-WR-CALNAME:IAL®
X-ORIGINAL-URL:https://www.ial.de
X-WR-CALDESC:Veranstaltungen für IAL®
REFRESH-INTERVAL;VALUE=DURATION:PT1H
X-Robots-Tag:noindex
X-PUBLISHED-TTL:PT1H
BEGIN:VTIMEZONE
TZID:Europe/Berlin
BEGIN:DAYLIGHT
TZOFFSETFROM:+0100
TZOFFSETTO:+0200
TZNAME:CEST
DTSTART:20250330T010000
END:DAYLIGHT
BEGIN:STANDARD
TZOFFSETFROM:+0200
TZOFFSETTO:+0100
TZNAME:CET
DTSTART:20251026T010000
END:STANDARD
BEGIN:DAYLIGHT
TZOFFSETFROM:+0100
TZOFFSETTO:+0200
TZNAME:CEST
DTSTART:20260329T010000
END:DAYLIGHT
BEGIN:STANDARD
TZOFFSETFROM:+0200
TZOFFSETTO:+0100
TZNAME:CET
DTSTART:20261025T010000
END:STANDARD
BEGIN:DAYLIGHT
TZOFFSETFROM:+0100
TZOFFSETTO:+0200
TZNAME:CEST
DTSTART:20270328T010000
END:DAYLIGHT
BEGIN:STANDARD
TZOFFSETFROM:+0200
TZOFFSETTO:+0100
TZNAME:CET
DTSTART:20271031T010000
END:STANDARD
END:VTIMEZONE
BEGIN:VEVENT
DTSTART;VALUE=DATE:20260421
DTEND;VALUE=DATE:20260422
DTSTAMP:20260422T153840
CREATED:20251110T114928Z
LAST-MODIFIED:20260128T105211Z
UID:10002815-1776729600-1776815999@www.ial.de
SUMMARY:SAP® Certified Associate - Back-End Developer - ABAP Cloud
DESCRIPTION:
URL:https://www.ial.de/kursstarts/sap-certified-associate-back-end-developer-abap-cloud-13/
CATEGORIES:ABAP,Qualifizierung,SAP
ATTACH;FMTTYPE=image/jpeg:https://www.ial.de/wp-content/uploads/2025/01/SAP_SAP_Back-End-Developer-ABAP-Cloud.jpg
END:VEVENT
BEGIN:VEVENT
DTSTART;VALUE=DATE:20260421
DTEND;VALUE=DATE:20260422
DTSTAMP:20260422T153840
CREATED:20251110T115507Z
LAST-MODIFIED:20260121T122219Z
UID:10002841-1776729600-1776815999@www.ial.de
SUMMARY:SAP®-Unternehmenskoordinator SAP® S4/HANA
DESCRIPTION:
URL:https://www.ial.de/kursstarts/sap-unternehmenskoordinator-sap-s4-hana-16/
CATEGORIES:Anwender,Qualifizierung,SAP,SAP UK
ATTACH;FMTTYPE=image/webp:https://www.ial.de/wp-content/uploads/2025/07/SAP_Unternehmenskoordinato.webp
END:VEVENT
BEGIN:VEVENT
DTSTART;VALUE=DATE:20260421
DTEND;VALUE=DATE:20260422
DTSTAMP:20260422T153840
CREATED:20251110T115627Z
LAST-MODIFIED:20251217T120442Z
UID:10002852-1776729600-1776815999@www.ial.de
SUMMARY:Zertifizierte/r SAP® Berater/in Application Associate FI
DESCRIPTION:
URL:https://www.ial.de/kursstarts/zertifizierte-r-sap-berater-in-application-associate-fi-16/
CATEGORIES:Berater,Qualifizierung,SAP,SAP FI
ATTACH;FMTTYPE=image/jpeg:https://www.ial.de/wp-content/uploads/2025/01/SAP_Zertifizierte-SAP-Beraterin-Application-Associate.jpg
END:VEVENT
BEGIN:VEVENT
DTSTART;VALUE=DATE:20260421
DTEND;VALUE=DATE:20260422
DTSTAMP:20260422T153840
CREATED:20251110T115711Z
LAST-MODIFIED:20251217T114505Z
UID:10002865-1776729600-1776815999@www.ial.de
SUMMARY:Zertifizierte/r SAP® Berater/in Application Associate MM
DESCRIPTION:
URL:https://www.ial.de/kursstarts/zertifizierte-r-sap-berater-in-application-associate-mm-14/
CATEGORIES:Berater,Qualifizierung,SAP,SAP MM
ATTACH;FMTTYPE=image/jpeg:https://www.ial.de/wp-content/uploads/2025/01/Zertifizierte-SAP-Beraterin-Application-Associate_MM.jpg
END:VEVENT
BEGIN:VEVENT
DTSTART;VALUE=DATE:20260421
DTEND;VALUE=DATE:20260422
DTSTAMP:20260422T153840
CREATED:20251110T115926Z
LAST-MODIFIED:20251217T123049Z
UID:10002878-1776729600-1776815999@www.ial.de
SUMMARY:Zertifizierte/r SAP® Berater/in Application Associate SD
DESCRIPTION:
URL:https://www.ial.de/kursstarts/zertifizierte-r-sap-berater-in-application-associate-sd-3/
CATEGORIES:Berater,Qualifizierung,SAP,SAP SD
ATTACH;FMTTYPE=image/jpeg:https://www.ial.de/wp-content/uploads/2025/01/Zertifizierte-SAP-Beraterin-Application-Associate_SD.jpg
END:VEVENT
END:VCALENDAR