BEGIN:VCALENDAR
VERSION:2.0
PRODID:-//IAL® - ECPv6.15.19//NONSGML v1.0//EN
CALSCALE:GREGORIAN
METHOD:PUBLISH
X-WR-CALNAME:IAL®
X-ORIGINAL-URL:https://www.ial.de
X-WR-CALDESC:Veranstaltungen für IAL®
REFRESH-INTERVAL;VALUE=DURATION:PT1H
X-Robots-Tag:noindex
X-PUBLISHED-TTL:PT1H
BEGIN:VTIMEZONE
TZID:Europe/Berlin
BEGIN:DAYLIGHT
TZOFFSETFROM:+0100
TZOFFSETTO:+0200
TZNAME:CEST
DTSTART:20250330T010000
END:DAYLIGHT
BEGIN:STANDARD
TZOFFSETFROM:+0200
TZOFFSETTO:+0100
TZNAME:CET
DTSTART:20251026T010000
END:STANDARD
BEGIN:DAYLIGHT
TZOFFSETFROM:+0100
TZOFFSETTO:+0200
TZNAME:CEST
DTSTART:20260329T010000
END:DAYLIGHT
BEGIN:STANDARD
TZOFFSETFROM:+0200
TZOFFSETTO:+0100
TZNAME:CET
DTSTART:20261025T010000
END:STANDARD
BEGIN:DAYLIGHT
TZOFFSETFROM:+0100
TZOFFSETTO:+0200
TZNAME:CEST
DTSTART:20270328T010000
END:DAYLIGHT
BEGIN:STANDARD
TZOFFSETFROM:+0200
TZOFFSETTO:+0100
TZNAME:CET
DTSTART:20271031T010000
END:STANDARD
END:VTIMEZONE
BEGIN:VEVENT
DTSTART;VALUE=DATE:20260429
DTEND;VALUE=DATE:20260430
DTSTAMP:20260422T121506
CREATED:20251110T114518Z
LAST-MODIFIED:20260128T114239Z
UID:10002799-1777420800-1777507199@www.ial.de
SUMMARY:Keyuser SAP® S/4HANA FI in Vollzeit
DESCRIPTION:
URL:https://www.ial.de/kursstarts/keyuser-sap-s-4hana-fi-in-vollzeit-3/
CATEGORIES:Anwender,Keyuser_FI,Qualifizierung,SAP
ATTACH;FMTTYPE=image/jpeg:https://www.ial.de/wp-content/uploads/2025/01/SAP_Keyuser-SAP-S4HANA-FI.jpg
END:VEVENT
BEGIN:VEVENT
DTSTART;VALUE=DATE:20260429
DTEND;VALUE=DATE:20260430
DTSTAMP:20260422T121506
CREATED:20251110T115327Z
LAST-MODIFIED:20251110T115327Z
UID:10002831-1777420800-1777507199@www.ial.de
SUMMARY:SAP® Überblick S/4HANA in Vollzeit
DESCRIPTION:
URL:https://www.ial.de/kursstarts/sap-ueberblick-s-4hana-in-vollzeit-9/
CATEGORIES:Anwender,Qualifizierung,SAP,SAP_Überblick
ATTACH;FMTTYPE=image/jpeg:https://www.ial.de/wp-content/uploads/2025/01/SAP_SAP-Ueberblick-S4HANA.jpg
END:VEVENT
BEGIN:VEVENT
DTSTART;VALUE=DATE:20260429
DTEND;VALUE=DATE:20260430
DTSTAMP:20260422T121506
CREATED:20251110T121022Z
LAST-MODIFIED:20260305T110038Z
UID:10002905-1777420800-1777507199@www.ial.de
SUMMARY:Fachkraft Personalwesen in Teilzeit
DESCRIPTION:
URL:https://www.ial.de/kursstarts/fachkraft-personalwesen-in-teilzeit-3/
CATEGORIES:Kaufmännisch,KQ,Personalwesen,Qualifizierung
ATTACH;FMTTYPE=image/webp:https://www.ial.de/wp-content/uploads/2025/07/Fachkraft-Personalwesen-1.webp
END:VEVENT
BEGIN:VEVENT
DTSTART;VALUE=DATE:20260429
DTEND;VALUE=DATE:20260430
DTSTAMP:20260422T121506
CREATED:20251110T121417Z
LAST-MODIFIED:20251110T121417Z
UID:10002919-1777420800-1777507199@www.ial.de
SUMMARY:Modulare Kaufmännische Qualifizierung in Teilzeit
DESCRIPTION:
URL:https://www.ial.de/kursstarts/modulare-kaufmaennische-qualifizierung-in-teilzeit-11/
CATEGORIES:KQ,Qualifizierung
END:VEVENT
BEGIN:VEVENT
DTSTART;VALUE=DATE:20260429
DTEND;VALUE=DATE:20260430
DTSTAMP:20260422T121506
CREATED:20251110T121818Z
LAST-MODIFIED:20260128T113153Z
UID:10002928-1777420800-1777507199@www.ial.de
SUMMARY:Modulare Kaufmännische Qualifizierung in Vollzeit
DESCRIPTION:
URL:https://www.ial.de/kursstarts/modulare-kaufmaennische-qualifizierung-in-vollzeit-17/
CATEGORIES:KQ,Qualifizierung
ATTACH;FMTTYPE=image/webp:https://www.ial.de/wp-content/uploads/2025/07/Modulare-Kaufmaennische-Qualifizierung.webp
END:VEVENT
BEGIN:VEVENT
DTSTART;VALUE=DATE:20260429
DTEND;VALUE=DATE:20260430
DTSTAMP:20260422T121506
CREATED:20251110T122223Z
LAST-MODIFIED:20251110T122223Z
UID:10002939-1777420800-1777507199@www.ial.de
SUMMARY:Kaufmännische Qualifizierung mit berufsbezogenem Deutsch in Teilzeit
DESCRIPTION:
URL:https://www.ial.de/kursstarts/kaufmaennische-qualifizierung-mit-berufsbezogenem-deutsch-in-teilzeit-11/
CATEGORIES:Deutsch,KQ,Qualifizierung
ATTACH;FMTTYPE=image/jpeg:https://www.ial.de/wp-content/uploads/2025/01/Kaufmaennische-Qualifizierung_Migration.jpg
END:VEVENT
BEGIN:VEVENT
DTSTART;VALUE=DATE:20260429
DTEND;VALUE=DATE:20260430
DTSTAMP:20260422T121506
CREATED:20251110T123327Z
LAST-MODIFIED:20251110T123327Z
UID:10002948-1777420800-1777507199@www.ial.de
SUMMARY:Kaufmännische Qualifizierung mit berufsbezogenem Deutsch in Vollzeit
DESCRIPTION:
URL:https://www.ial.de/kursstarts/kaufmaennische-qualifizierung-mit-berufsbezogenem-deutsch-in-vollzeit-15/
CATEGORIES:Deutsch,KQ,Qualifizierung
ATTACH;FMTTYPE=image/jpeg:https://www.ial.de/wp-content/uploads/2025/01/Kaufmaennische-Qualifizierung_Migration.jpg
END:VEVENT
BEGIN:VEVENT
DTSTART;VALUE=DATE:20260429
DTEND;VALUE=DATE:20260430
DTSTAMP:20260422T121506
CREATED:20260121T114933Z
LAST-MODIFIED:20260121T114933Z
UID:10002977-1777420800-1777507199@www.ial.de
SUMMARY:Wirtschaftsenglisch in Vollzeit
DESCRIPTION:
URL:https://www.ial.de/kursstarts/wirtschaftsenglisch-in-vollzeit-15/
CATEGORIES:Englisch,Kaufmännisch,KQ,Qualifizierung,Wirtschaftsenglisch
ATTACH;FMTTYPE=image/jpeg:https://www.ial.de/wp-content/uploads/2025/01/Wirtschaftsenglisch.jpg
END:VEVENT
BEGIN:VEVENT
DTSTART;VALUE=DATE:20260429
DTEND;VALUE=DATE:20260430
DTSTAMP:20260422T121506
CREATED:20260121T115753Z
LAST-MODIFIED:20260121T115753Z
UID:10002988-1777420800-1777507199@www.ial.de
SUMMARY:Wirtschaftsenglisch in Teilzeit
DESCRIPTION:
URL:https://www.ial.de/kursstarts/wirtschaftsenglisch-in-teilzeit-11/
CATEGORIES:Englisch,Kaufmännisch,KQ,Qualifizierung,Wirtschaftsenglisch TZ
ATTACH;FMTTYPE=image/jpeg:https://www.ial.de/wp-content/uploads/2025/01/Wirtschaftsenglisch_TZ.jpg
END:VEVENT
BEGIN:VEVENT
DTSTART;VALUE=DATE:20260429
DTEND;VALUE=DATE:20260430
DTSTAMP:20260422T121506
CREATED:20260122T101436Z
LAST-MODIFIED:20260422T083021Z
UID:10002995-1777420800-1777507199@www.ial.de
SUMMARY:Finanzbuchhalter/in mit DATEV in Teilzeit
DESCRIPTION:
URL:https://www.ial.de/kursstarts/finanzbuchhalter-in-mit-datev-in-teilzeit-8/
CATEGORIES:Finanzbuchhalter TZ,Kaufmännisch,KQ,Qualifizierung
ATTACH;FMTTYPE=image/webp:https://www.ial.de/wp-content/uploads/2025/07/Finanzbuchhalter-mit-DATEV-und-SAPFI-1.webp
END:VEVENT
BEGIN:VEVENT
DTSTART;VALUE=DATE:20260506
DTEND;VALUE=DATE:20260507
DTSTAMP:20260422T121506
CREATED:20251110T121010Z
LAST-MODIFIED:20251113T124940Z
UID:10002901-1778025600-1778111999@www.ial.de
SUMMARY:Einstieg in die Lagerlogistik mit berufsbezogenem Deutsch
DESCRIPTION:
URL:https://www.ial.de/kursstarts/einstieg-in-die-lagerlogistik-mit-berufsbezogenem-deutsch-9/
CATEGORIES:Deutsch,Lager,Lager_Deutsch,Qualifizierung
ATTACH;FMTTYPE=image/webp:https://www.ial.de/wp-content/uploads/2025/07/Umschulung-Fachkraft-fuer-Lagerlogistik_mit-Deutsch.webp
END:VEVENT
BEGIN:VEVENT
DTSTART;VALUE=DATE:20260519
DTEND;VALUE=DATE:20260520
DTSTAMP:20260422T121506
CREATED:20251110T103039Z
LAST-MODIFIED:20251110T103039Z
UID:10002781-1779148800-1779235199@www.ial.de
SUMMARY:Sachkundeprüfung Bewachungsgewerbe gem. § 34 Gew0
DESCRIPTION:
URL:https://www.ial.de/kursstarts/sachkundepruefung-bewachungsgewerbe-gem-%c2%a7-34-gew0-6/
CATEGORIES:Qualifizierung,SuS
ATTACH;FMTTYPE=image/jpeg:https://www.ial.de/wp-content/uploads/2025/01/34a.jpg
END:VEVENT
BEGIN:VEVENT
DTSTART;VALUE=DATE:20260521
DTEND;VALUE=DATE:20260522
DTSTAMP:20260422T121506
CREATED:20251110T115509Z
LAST-MODIFIED:20260121T122305Z
UID:10002842-1779321600-1779407999@www.ial.de
SUMMARY:SAP®-Unternehmenskoordinator SAP® S4/HANA
DESCRIPTION:
URL:https://www.ial.de/kursstarts/sap-unternehmenskoordinator-sap-s4-hana-17/
CATEGORIES:Anwender,Qualifizierung,SAP,SAP UK
ATTACH;FMTTYPE=image/webp:https://www.ial.de/wp-content/uploads/2025/07/SAP_Unternehmenskoordinato.webp
END:VEVENT
BEGIN:VEVENT
DTSTART;VALUE=DATE:20260521
DTEND;VALUE=DATE:20260522
DTSTAMP:20260422T121506
CREATED:20251110T115707Z
LAST-MODIFIED:20251217T120612Z
UID:10002862-1779321600-1779407999@www.ial.de
SUMMARY:Zertifizierte/r SAP® Berater/in Application Associate FI
DESCRIPTION:
URL:https://www.ial.de/kursstarts/zertifizierte-r-sap-berater-in-application-associate-fi-25/
CATEGORIES:Berater,Qualifizierung,SAP,SAP FI
ATTACH;FMTTYPE=image/jpeg:https://www.ial.de/wp-content/uploads/2025/01/SAP_Zertifizierte-SAP-Beraterin-Application-Associate.jpg
END:VEVENT
BEGIN:VEVENT
DTSTART;VALUE=DATE:20260521
DTEND;VALUE=DATE:20260522
DTSTAMP:20260422T121506
CREATED:20251110T115712Z
LAST-MODIFIED:20251217T114738Z
UID:10002866-1779321600-1779407999@www.ial.de
SUMMARY:Zertifizierte/r SAP® Berater/in Application Associate MM
DESCRIPTION:
URL:https://www.ial.de/kursstarts/zertifizierte-r-sap-berater-in-application-associate-mm-15/
CATEGORIES:Berater,Qualifizierung,SAP,SAP MM
ATTACH;FMTTYPE=image/jpeg:https://www.ial.de/wp-content/uploads/2025/01/Zertifizierte-SAP-Beraterin-Application-Associate_MM.jpg
END:VEVENT
BEGIN:VEVENT
DTSTART;VALUE=DATE:20260521
DTEND;VALUE=DATE:20260522
DTSTAMP:20260422T121506
CREATED:20251110T115928Z
LAST-MODIFIED:20251217T123128Z
UID:10002879-1779321600-1779407999@www.ial.de
SUMMARY:Zertifizierte/r SAP® Berater/in Application Associate SD
DESCRIPTION:
URL:https://www.ial.de/kursstarts/zertifizierte-r-sap-berater-in-application-associate-sd-4/
CATEGORIES:Berater,Qualifizierung,SAP,SAP SD
ATTACH;FMTTYPE=image/jpeg:https://www.ial.de/wp-content/uploads/2025/01/Zertifizierte-SAP-Beraterin-Application-Associate_SD.jpg
END:VEVENT
BEGIN:VEVENT
DTSTART;VALUE=DATE:20260529
DTEND;VALUE=DATE:20260530
DTSTAMP:20260422T121506
CREATED:20251110T114930Z
LAST-MODIFIED:20260128T105114Z
UID:10002816-1780012800-1780099199@www.ial.de
SUMMARY:SAP® Certified Associate - Back-End Developer - ABAP Cloud
DESCRIPTION:
URL:https://www.ial.de/kursstarts/sap-certified-associate-back-end-developer-abap-cloud-14/
CATEGORIES:ABAP,Qualifizierung,SAP
ATTACH;FMTTYPE=image/jpeg:https://www.ial.de/wp-content/uploads/2025/01/SAP_SAP_Back-End-Developer-ABAP-Cloud.jpg
END:VEVENT
BEGIN:VEVENT
DTSTART;VALUE=DATE:20260601
DTEND;VALUE=DATE:20260602
DTSTAMP:20260422T121506
CREATED:20250703T141121Z
LAST-MODIFIED:20251110T115229Z
UID:10002674-1780272000-1780358399@www.ial.de
SUMMARY:Umschulung Fachinformatiker/in der Fachrichtung Systemintegration
DESCRIPTION:
URL:https://www.ial.de/kursstarts/umschulung-fachinformatiker-in-der-fachrichtung-systemintegration-3/
CATEGORIES:IHK,IT,Um_IT_System,UM_ITU,Umschulung
ATTACH;FMTTYPE=image/jpeg:https://www.ial.de/wp-content/uploads/2025/01/Umschulungen-mit-mehr-Zeit-Fachinformatiker-Systemintegration.jpg
END:VEVENT
BEGIN:VEVENT
DTSTART;VALUE=DATE:20260601
DTEND;VALUE=DATE:20260602
DTSTAMP:20260422T121506
CREATED:20251110T112313Z
LAST-MODIFIED:20251110T112313Z
UID:10002790-1780272000-1780358399@www.ial.de
SUMMARY:Umschulung Fachinformatiker/in der Fachrichtung Anwendungsentwicklung
DESCRIPTION:
URL:https://www.ial.de/kursstarts/umschulung-fachinformatiker-in-der-fachrichtung-anwendungsentwicklung-6/
CATEGORIES:IHK,IT,Um_IT_Anwen,UM_ITU,Umschulung
ATTACH;FMTTYPE=image/jpeg:https://www.ial.de/wp-content/uploads/2025/01/Umschulung-Fachinformatiker-Anwendungsentwicklung.jpg
END:VEVENT
BEGIN:VEVENT
DTSTART;VALUE=DATE:20260601
DTEND;VALUE=DATE:20260602
DTSTAMP:20260422T121506
CREATED:20251110T112929Z
LAST-MODIFIED:20251110T112929Z
UID:10002792-1780272000-1780358399@www.ial.de
SUMMARY:Umschulung Kaufleute für IT-System-Management
DESCRIPTION:
URL:https://www.ial.de/kursstarts/umschulung-kaufleute-fuer-it-system-management-3/
CATEGORIES:IHK,IT,Kaufleute,UM_IT-System-M,UM_ITU,Umschulung
ATTACH;FMTTYPE=image/webp:https://www.ial.de/wp-content/uploads/2025/07/Umschulung-Kaufleute-IT-System-Management-1.webp
END:VEVENT
BEGIN:VEVENT
DTSTART;VALUE=DATE:20260601
DTEND;VALUE=DATE:20260602
DTSTAMP:20260422T121506
CREATED:20251110T115451Z
LAST-MODIFIED:20251110T115451Z
UID:10002834-1780272000-1780358399@www.ial.de
SUMMARY:Umschulung Kaufleute für Digitalisierungsmanagement
DESCRIPTION:
URL:https://www.ial.de/kursstarts/umschulung-kaufleute-fuer-digitalisierungsmanagement-5/
CATEGORIES:IHK,IT,Kaufleute,UM_ITU,Ums_Kaufl_Digi,Umschulung
ATTACH;FMTTYPE=image/jpeg:https://www.ial.de/wp-content/uploads/2025/01/Umschulung-Kaufleute-Digitalisierungsmanagement.jpg
END:VEVENT
BEGIN:VEVENT
DTSTART;VALUE=DATE:20260601
DTEND;VALUE=DATE:20260602
DTSTAMP:20260422T121506
CREATED:20251110T121226Z
LAST-MODIFIED:20260305T111207Z
UID:10002911-1780272000-1780358399@www.ial.de
SUMMARY:Finanzbuchhalter/in mit DATEV in Vollzeit
DESCRIPTION:
URL:https://www.ial.de/kursstarts/finanzbuchhalter-in-mit-datev-in-vollzeit-9/
CATEGORIES:Finanzbuchhalter,Kaufmännisch,KQ,Qualifizierung
ATTACH;FMTTYPE=image/jpeg:https://www.ial.de/wp-content/uploads/2025/01/Finanzbuchhalter-mit-DATEV.jpg
END:VEVENT
BEGIN:VEVENT
DTSTART;VALUE=DATE:20260601
DTEND;VALUE=DATE:20260602
DTSTAMP:20260422T121506
CREATED:20251110T121303Z
LAST-MODIFIED:20260122T100426Z
UID:10002915-1780272000-1780358399@www.ial.de
SUMMARY:Finanzbuchhalter/in mit SAP® FI und DATEV in Vollzeit
DESCRIPTION:
URL:https://www.ial.de/kursstarts/finanzbuchhalter-in-mit-sap-fi-und-datev-in-vollzeit-3/
CATEGORIES:DATEV,KQ,Qualifizierung,SAP
ATTACH;FMTTYPE=image/webp:https://www.ial.de/wp-content/uploads/2025/07/Finanzbuchhalter-mit-DATEV-und-SAPFI-1.webp
END:VEVENT
BEGIN:VEVENT
DTSTART;VALUE=DATE:20260601
DTEND;VALUE=DATE:20260602
DTSTAMP:20260422T121506
CREATED:20251110T121819Z
LAST-MODIFIED:20260128T113050Z
UID:10002929-1780272000-1780358399@www.ial.de
SUMMARY:Modulare Kaufmännische Qualifizierung in Vollzeit
DESCRIPTION:
URL:https://www.ial.de/kursstarts/modulare-kaufmaennische-qualifizierung-in-vollzeit-18/
CATEGORIES:KQ,Qualifizierung
ATTACH;FMTTYPE=image/webp:https://www.ial.de/wp-content/uploads/2025/07/Modulare-Kaufmaennische-Qualifizierung.webp
END:VEVENT
BEGIN:VEVENT
DTSTART;VALUE=DATE:20260601
DTEND;VALUE=DATE:20260602
DTSTAMP:20260422T121506
CREATED:20251110T123329Z
LAST-MODIFIED:20251110T123329Z
UID:10002949-1780272000-1780358399@www.ial.de
SUMMARY:Kaufmännische Qualifizierung mit berufsbezogenem Deutsch in Vollzeit
DESCRIPTION:
URL:https://www.ial.de/kursstarts/kaufmaennische-qualifizierung-mit-berufsbezogenem-deutsch-in-vollzeit-16/
CATEGORIES:Deutsch,KQ,Qualifizierung
ATTACH;FMTTYPE=image/jpeg:https://www.ial.de/wp-content/uploads/2025/01/Kaufmaennische-Qualifizierung_Migration.jpg
END:VEVENT
BEGIN:VEVENT
DTSTART;VALUE=DATE:20260601
DTEND;VALUE=DATE:20260602
DTSTAMP:20260422T121506
CREATED:20260121T115019Z
LAST-MODIFIED:20260121T115019Z
UID:10002978-1780272000-1780358399@www.ial.de
SUMMARY:Wirtschaftsenglisch in Vollzeit
DESCRIPTION:
URL:https://www.ial.de/kursstarts/wirtschaftsenglisch-in-vollzeit-16/
CATEGORIES:Englisch,Kaufmännisch,KQ,Qualifizierung,Wirtschaftsenglisch
ATTACH;FMTTYPE=image/jpeg:https://www.ial.de/wp-content/uploads/2025/01/Wirtschaftsenglisch.jpg
END:VEVENT
BEGIN:VEVENT
DTSTART;VALUE=DATE:20260601
DTEND;VALUE=DATE:20260602
DTSTAMP:20260422T121506
CREATED:20260305T105726Z
LAST-MODIFIED:20260305T105827Z
UID:10002996-1780272000-1780358399@www.ial.de
SUMMARY:Fachkraft Personalwesen in Vollzeit
DESCRIPTION:
URL:https://www.ial.de/kursstarts/fachkraft-personalwesen-in-vollzeit-4/
CATEGORIES:Kaufmännisch,KQ,Personalwesen,Qualifizierung
ATTACH;FMTTYPE=image/webp:https://www.ial.de/wp-content/uploads/2025/07/Fachkraft-Personalwesen-1.webp
END:VEVENT
BEGIN:VEVENT
DTSTART;VALUE=DATE:20260616
DTEND;VALUE=DATE:20260617
DTSTAMP:20260422T121506
CREATED:20251110T115250Z
LAST-MODIFIED:20251110T115250Z
UID:10002825-1781568000-1781654399@www.ial.de
SUMMARY:SAP® Überblick S/4HANA in Teilzeit
DESCRIPTION:
URL:https://www.ial.de/kursstarts/sap-ueberblick-s-4hana-in-teilzeit-6/
CATEGORIES:Anwender,Qualifizierung,SAP,SAP_Überblick
ATTACH;FMTTYPE=image/jpeg:https://www.ial.de/wp-content/uploads/2025/01/SAP_SAP-Ueberblick-S4HANA.jpg
END:VEVENT
BEGIN:VEVENT
DTSTART;VALUE=DATE:20260616
DTEND;VALUE=DATE:20260617
DTSTAMP:20260422T121506
CREATED:20251110T121419Z
LAST-MODIFIED:20251110T121419Z
UID:10002920-1781568000-1781654399@www.ial.de
SUMMARY:Modulare Kaufmännische Qualifizierung in Teilzeit
DESCRIPTION:
URL:https://www.ial.de/kursstarts/modulare-kaufmaennische-qualifizierung-in-teilzeit-12/
CATEGORIES:KQ,Qualifizierung
END:VEVENT
BEGIN:VEVENT
DTSTART;VALUE=DATE:20260616
DTEND;VALUE=DATE:20260617
DTSTAMP:20260422T121506
CREATED:20251110T122224Z
LAST-MODIFIED:20251110T122224Z
UID:10002940-1781568000-1781654399@www.ial.de
SUMMARY:Kaufmännische Qualifizierung mit berufsbezogenem Deutsch in Teilzeit
DESCRIPTION:
URL:https://www.ial.de/kursstarts/kaufmaennische-qualifizierung-mit-berufsbezogenem-deutsch-in-teilzeit-12/
CATEGORIES:Deutsch,KQ,Qualifizierung
ATTACH;FMTTYPE=image/jpeg:https://www.ial.de/wp-content/uploads/2025/01/Kaufmaennische-Qualifizierung_Migration.jpg
END:VEVENT
END:VCALENDAR